BEGIN:VCALENDAR
VERSION:2.0
PRODID:-//Squarespace Inc/Squarespace 6//v6//EN
BEGIN:VEVENT
UID:5b1dc627575d1f37d74f4bbb@squarespace.com
DTSTAMP:20180611T004550Z
DTSTART:20180622T200000Z
DTEND:20180623T020000Z
SUMMARY:Venue Booked
END:VEVENT
END:VCALENDAR
