BEGIN:VCALENDAR
VERSION:2.0
PRODID:-//Squarespace Inc/Squarespace 6//v6//EN
BEGIN:VEVENT
UID:5a7d3983e4966b0bea8023c5@squarespace.com
DTSTAMP:20180209T060358Z
DTSTART:20180616T160000Z
DTEND:20180617T143000Z
SUMMARY:Venue Booked
END:VEVENT
END:VCALENDAR
