BEGIN:VCALENDAR
VERSION:2.0
PRODID:-//Squarespace Inc/Squarespace 6//v6//EN
BEGIN:VEVENT
UID:5ace97190e2e7224ab1277bd@squarespace.com
DTSTAMP:20180411T231632Z
DTSTART:20180428T160000Z
DTEND:20180430T020000Z
SUMMARY:Venue Booked
END:VEVENT
END:VCALENDAR
