BEGIN:VCALENDAR
VERSION:2.0
PRODID:-//Squarespace Inc/Squarespace 6//v6//EN
BEGIN:VEVENT
UID:5a70ce48652deaac20dabd7a@squarespace.com
DTSTAMP:20180130T195915Z
DTSTART:20180414T160000Z
DTEND:20180415T140000Z
SUMMARY:Venue Booked
END:VEVENT
END:VCALENDAR
