BEGIN:VCALENDAR
VERSION:2.0
PRODID:-//Squarespace Inc/Squarespace 6//v6//EN
BEGIN:VEVENT
UID:5ace9768575d1f0b6ec6ddfc@squarespace.com
DTSTAMP:20180411T231740Z
DTSTART:20180412T230000Z
DTEND:20180413T010000Z
SUMMARY:Venue Booked
END:VEVENT
END:VCALENDAR
