BEGIN:VCALENDAR
VERSION:2.0
PRODID:-//Squarespace Inc/Squarespace 6//v6//EN
BEGIN:VEVENT
UID:59cc3d7d8fd4d26e72d24a78@squarespace.com
DTSTAMP:20170928T000941Z
DTSTART:20180304T150000Z
DTEND:20180304T210000Z
SUMMARY:Worser Bay Beach Carnival
END:VEVENT
END:VCALENDAR
