BEGIN:VCALENDAR
VERSION:2.0
PRODID:-//Squarespace Inc/Squarespace 6//v6//EN
BEGIN:VEVENT
UID:5a7bb2c308522985c282aae5@squarespace.com
DTSTAMP:20180208T021553Z
DTSTART:20180304T170000Z
DTEND:20180304T180000Z
SUMMARY:Venue Booked
END:VEVENT
END:VCALENDAR
