BEGIN:VCALENDAR
VERSION:2.0
PRODID:-//Squarespace Inc/Squarespace 6//v6//EN
BEGIN:VEVENT
UID:5a7bb2f4e4966b2e6480e9cd@squarespace.com
DTSTAMP:20180208T022317Z
DTSTART:20180302T170000Z
DTEND:20180303T040000Z
SUMMARY:Venue Booked
END:VEVENT
END:VCALENDAR
