BEGIN:VCALENDAR
VERSION:2.0
PRODID:-//Squarespace Inc/Squarespace 6//v6//EN
BEGIN:VEVENT
UID:5a53090f71c10b6703e3eb17@squarespace.com
DTSTAMP:20180113T051023Z
DTSTART:20180317T160000Z
DTEND:20180318T133000Z
SUMMARY:Venue Booked
END:VEVENT
END:VCALENDAR
