BEGIN:VCALENDAR
VERSION:2.0
PRODID:-//Squarespace Inc/Squarespace 6//v6//EN
BEGIN:VEVENT
UID:5a70cc9ae2c483a43e1ec208@squarespace.com
DTSTAMP:20180130T195249Z
DTSTART:20180310T170000Z
DTEND:20180311T140000Z
SUMMARY:Venue Booked
END:VEVENT
END:VCALENDAR
