BEGIN:VCALENDAR
VERSION:2.0
PRODID:-//Squarespace Inc/Squarespace 6//v6//EN
BEGIN:VEVENT
UID:5a5993490d9297fec7709c77@squarespace.com
DTSTAMP:20180113T050536Z
DTSTART:20180209T190000Z
DTEND:20180211T023000Z
SUMMARY:Venue Booked
END:VEVENT
END:VCALENDAR
