BEGIN:VCALENDAR
VERSION:2.0
PRODID:-//Squarespace Inc/Squarespace 6//v6//EN
BEGIN:VEVENT
UID:5a599463ec212dd5066b9276@squarespace.com
DTSTAMP:20180113T050929Z
DTSTART:20180209T070000Z
DTEND:20180211T143000Z
SUMMARY:Venue Booked
END:VEVENT
END:VCALENDAR
