BEGIN:VCALENDAR
VERSION:2.0
PRODID:-//Squarespace Inc/Squarespace 6//v6//EN
BEGIN:VEVENT
UID:59a3a6d4e4fcb5aae6a6c837@squarespace.com
DTSTAMP:20170828T051559Z
DTSTART:20180204T170000Z
DTEND:20180204T200000Z
SUMMARY:Lifeguard Training
END:VEVENT
END:VCALENDAR
