BEGIN:VCALENDAR
VERSION:2.0
PRODID:-//Squarespace Inc/Squarespace 6//v6//EN
BEGIN:VEVENT
UID:5a4d8ecde2c4835f8699e072@squarespace.com
DTSTAMP:20180104T021911Z
DTSTART:20180203T180000Z
DTEND:20180204T000000Z
SUMMARY:Venue Booked
END:VEVENT
END:VCALENDAR
