BEGIN:VCALENDAR
VERSION:2.0
PRODID:-//Squarespace Inc/Squarespace 6//v6//EN
BEGIN:VEVENT
UID:59a3a789b8a79b579243b5cc@squarespace.com
DTSTAMP:20170828T051836Z
DTSTART:20180225T170000Z
DTEND:20180225T200000Z
SUMMARY:Lifeguard Training
END:VEVENT
END:VCALENDAR
