BEGIN:VCALENDAR
VERSION:2.0
PRODID:-//Squarespace Inc/Squarespace 6//v6//EN
BEGIN:VEVENT
UID:59ffed8264265f6a403d15d2@squarespace.com
DTSTAMP:20171106T053658Z
DTSTART:20180224T160000Z
DTEND:20180225T143000Z
SUMMARY:Venue Booked
END:VEVENT
END:VCALENDAR
