BEGIN:VCALENDAR
VERSION:2.0
PRODID:-//Squarespace Inc/Squarespace 6//v6//EN
BEGIN:VEVENT
UID:59fffb800852295261d34ded@squarespace.com
DTSTAMP:20171106T060537Z
DTSTART:20180222T140000Z
DTEND:20180222T193000Z
SUMMARY:Beach Education
END:VEVENT
END:VCALENDAR
