BEGIN:VCALENDAR
VERSION:2.0
PRODID:-//Squarespace Inc/Squarespace 6//v6//EN
BEGIN:VEVENT
UID:59fffae5c83025d8b00f4635@squarespace.com
DTSTAMP:20171106T060437Z
DTSTART:20180221T140000Z
DTEND:20180221T193000Z
SUMMARY:Beach Education
END:VEVENT
END:VCALENDAR
