BEGIN:VCALENDAR
VERSION:2.0
PRODID:-//Squarespace Inc/Squarespace 6//v6//EN
BEGIN:VEVENT
UID:5a822b7971c10bf5ce23bf2b@squarespace.com
DTSTAMP:20180213T000511Z
DTSTART:20180220T203000Z
DTEND:20180221T000000Z
SUMMARY:Venue Booked
END:VEVENT
END:VCALENDAR
