BEGIN:VCALENDAR
VERSION:2.0
PRODID:-//Squarespace Inc/Squarespace 6//v6//EN
BEGIN:VEVENT
UID:5a822aaee4966b24f540d8fc@squarespace.com
DTSTAMP:20180213T000249Z
DTSTART:20180217T190000Z
DTEND:20180218T143000Z
SUMMARY:Venue Booked
END:VEVENT
END:VCALENDAR
