BEGIN:VCALENDAR
VERSION:2.0
PRODID:-//Squarespace Inc/Squarespace 6//v6//EN
BEGIN:VEVENT
UID:59a3a74703596e3462ddc7bb@squarespace.com
DTSTAMP:20170828T051750Z
DTSTART:20180218T170000Z
DTEND:20180218T200000Z
SUMMARY:Lifeguard Training
END:VEVENT
END:VCALENDAR
