BEGIN:VCALENDAR
VERSION:2.0
PRODID:-//Squarespace Inc/Squarespace 6//v6//EN
BEGIN:VEVENT
UID:5a5993b708522942afed70ec@squarespace.com
DTSTAMP:20180113T050624Z
DTSTART:20180211T160000Z
DTEND:20180211T170000Z
SUMMARY:Venue Booked
END:VEVENT
END:VCALENDAR
