BEGIN:VCALENDAR
VERSION:2.0
PRODID:-//Squarespace Inc/Squarespace 6//v6//EN
BEGIN:VEVENT
UID:59a3a718ebbd1ab3e58c4e77@squarespace.com
DTSTAMP:20170828T051645Z
DTSTART:20180211T170000Z
DTEND:20180211T200000Z
SUMMARY:Lifeguard Training
END:VEVENT
END:VCALENDAR
