BEGIN:VCALENDAR
VERSION:2.0
PRODID:-//Squarespace Inc/Squarespace 6//v6//EN
BEGIN:VEVENT
UID:59c05d943e00be04cdf0cc6a@squarespace.com
DTSTAMP:20170918T235908Z
DTSTART:20180210T160000Z
DTEND:20180212T030000Z
SUMMARY:Venue Booked
END:VEVENT
END:VCALENDAR
