BEGIN:VCALENDAR
VERSION:2.0
PRODID:-//Squarespace Inc/Squarespace 6//v6//EN
BEGIN:VEVENT
UID:5b8b75392b6a289ccc2cc690@squarespace.com
DTSTAMP:20180902T053012Z
DTSTART:20181208T170000Z
DTEND:20181208T220000Z
SUMMARY:Venue Booked
END:VEVENT
END:VCALENDAR
