BEGIN:VCALENDAR
VERSION:2.0
PRODID:-//Squarespace Inc/Squarespace 6//v6//EN
BEGIN:VEVENT
UID:5bd6934015fcc0f8b7773acd@squarespace.com
DTSTAMP:20181029T045815Z
DTSTART:20181207T200000Z
DTEND:20181208T020000Z
SUMMARY:Venue Booked
END:VEVENT
END:VCALENDAR
