BEGIN:VCALENDAR
VERSION:2.0
PRODID:-//Squarespace Inc/Squarespace 6//v6//EN
BEGIN:VEVENT
UID:5c20242c352f53c7fe2ecbd9@squarespace.com
DTSTAMP:20181224T001210Z
DTSTART:20181231T210000Z
DTEND:20190101T153000Z
SUMMARY:Venue Booked
END:VEVENT
END:VCALENDAR
