BEGIN:VCALENDAR
VERSION:2.0
PRODID:-//Squarespace Inc/Squarespace 6//v6//EN
BEGIN:VEVENT
UID:5be110650e2e72f71e6af92a@squarespace.com
DTSTAMP:20181106T035435Z
DTSTART:20181202T190000Z
DTEND:20181202T210000Z
SUMMARY:Venue Booked
END:VEVENT
END:VCALENDAR
