BEGIN:VCALENDAR
VERSION:2.0
PRODID:-//Squarespace Inc/Squarespace 6//v6//EN
BEGIN:VEVENT
UID:5ba058226d2a739e1b8571ee@squarespace.com
DTSTAMP:20180918T014339Z
DTSTART:20181214T130000Z
DTEND:20181215T020000Z
SUMMARY:Venue Booked
END:VEVENT
END:VCALENDAR
