BEGIN:VCALENDAR
VERSION:2.0
PRODID:-//Squarespace Inc/Squarespace 6//v6//EN
BEGIN:VEVENT
UID:5bf1fde68a922ddcedcdbf6a@squarespace.com
DTSTAMP:20181119T000413Z
DTSTART:20181213T170000Z
DTEND:20181213T223000Z
SUMMARY:Venue Booked
END:VEVENT
END:VCALENDAR
