BEGIN:VCALENDAR
VERSION:2.0
PRODID:-//Squarespace Inc/Squarespace 6//v6//EN
BEGIN:VEVENT
UID:5be4da9a352f53e7cb3d9d37@squarespace.com
DTSTAMP:20181109T005429Z
DTSTART:20181130T160000Z
DTEND:20181130T230000Z
SUMMARY:Venue Booked
END:VEVENT
END:VCALENDAR
