BEGIN:VCALENDAR
VERSION:2.0
PRODID:-//Squarespace Inc/Squarespace 6//v6//EN
BEGIN:VEVENT
UID:5bd80b0eb208fc05c2679dc3@squarespace.com
DTSTAMP:20181030T074146Z
DTSTART:20181125T133000Z
DTEND:20181125T230000Z
SUMMARY:NZ Life Saving Event
END:VEVENT
END:VCALENDAR
