BEGIN:VCALENDAR
VERSION:2.0
PRODID:-//Squarespace Inc/Squarespace 6//v6//EN
BEGIN:VEVENT
UID:5b203ad32b6a28afecbd0aa7@squarespace.com
DTSTAMP:20180612T212852Z
DTSTART:20181118T133000Z
DTEND:20181118T233000Z
SUMMARY:Worser Bay Junior Surf Carnival
END:VEVENT
END:VCALENDAR
