BEGIN:VCALENDAR
VERSION:2.0
PRODID:-//Squarespace Inc/Squarespace 6//v6//EN
BEGIN:VEVENT
UID:5bc2e9fac83025dddf2f6187@squarespace.com
DTSTAMP:20181014T070321Z
DTSTART:20181117T133000Z
DTEND:20181117T170000Z
SUMMARY:Venue Booked
END:VEVENT
END:VCALENDAR
