BEGIN:VCALENDAR
VERSION:2.0
PRODID:-//Squarespace Inc/Squarespace 6//v6//EN
BEGIN:VEVENT
UID:5bd3819e4192025d81748ca8@squarespace.com
DTSTAMP:20181026T210611Z
DTSTART:20181116T190000Z
DTEND:20181118T023000Z
SUMMARY:Venue Booked
END:VEVENT
END:VCALENDAR
