BEGIN:VCALENDAR
VERSION:2.0
PRODID:-//Squarespace Inc/Squarespace 6//v6//EN
BEGIN:VEVENT
UID:5b7b55bbcd8366de34a5a009@squarespace.com
DTSTAMP:20180820T235937Z
DTSTART:20181028T180000Z
DTEND:20181028T200000Z
SUMMARY:WBLSC Open Day
END:VEVENT
END:VCALENDAR
