BEGIN:VCALENDAR
VERSION:2.0
PRODID:-//Squarespace Inc/Squarespace 6//v6//EN
BEGIN:VEVENT
UID:5bbac254e5e5f0f20c6809eb@squarespace.com
DTSTAMP:20181008T023619Z
DTSTART:20181027T120000Z
DTEND:20181028T130000Z
SUMMARY:SLSNZ Central Region Meeting
END:VEVENT
END:VCALENDAR
