BEGIN:VCALENDAR
VERSION:2.0
PRODID:-//Squarespace Inc/Squarespace 6//v6//EN
BEGIN:VEVENT
UID:59a3a42b03596e3462ddaeb9@squarespace.com
DTSTAMP:20170828T051447Z
DTSTART:20180107T170000Z
DTEND:20180107T200000Z
SUMMARY:Lifeguard Training
END:VEVENT
END:VCALENDAR
