BEGIN:VCALENDAR
VERSION:2.0
PRODID:-//Squarespace Inc/Squarespace 6//v6//EN
BEGIN:VEVENT
UID:59a3a5129f8dceb4db95cfdb@squarespace.com
DTSTAMP:20170828T050820Z
DTSTART:20180128T170000Z
DTEND:20180128T200000Z
SUMMARY:Lifeguard Training
END:VEVENT
END:VCALENDAR
