BEGIN:VCALENDAR
VERSION:2.0
PRODID:-//Squarespace Inc/Squarespace 6//v6//EN
BEGIN:VEVENT
UID:59a3a4d6e58c62501fc5c9a2@squarespace.com
DTSTAMP:20170828T050717Z
DTSTART:20180121T170000Z
DTEND:20180122T200000Z
SUMMARY:Lifeguard Training
END:VEVENT
END:VCALENDAR
