BEGIN:VCALENDAR
VERSION:2.0
PRODID:-//Squarespace Inc/Squarespace 6//v6//EN
BEGIN:VEVENT
UID:5a4d631f53450aa56e164bc3@squarespace.com
DTSTAMP:20180103T231241Z
DTSTART:20180120T170000Z
DTEND:20180121T143000Z
SUMMARY:Venue Booked
END:VEVENT
END:VCALENDAR
