BEGIN:VCALENDAR
VERSION:2.0
PRODID:-//Squarespace Inc/Squarespace 6//v6//EN
BEGIN:VEVENT
UID:59a3a49f3e00be570b8ee820@squarespace.com
DTSTAMP:20170828T050615Z
DTSTART:20180114T170000Z
DTEND:20180114T200000Z
SUMMARY:Lifeguard Training
END:VEVENT
END:VCALENDAR
