BEGIN:VCALENDAR
VERSION:2.0
PRODID:-//Squarespace Inc/Squarespace 6//v6//EN
BEGIN:VEVENT
UID:5953414fff7c502702d485f0@squarespace.com
DTSTAMP:20170628T054108Z
DTSTART:20170806T163000Z
DTEND:20170807T190000Z
SUMMARY:Cadet Training
END:VEVENT
END:VCALENDAR
