BEGIN:VCALENDAR
VERSION:2.0
PRODID:-//Squarespace Inc/Squarespace 6//v6//EN
BEGIN:VEVENT
UID:593743d0893fc06c8081b683@squarespace.com
DTSTAMP:20170607T001104Z
DTSTART:20170805T160000Z
DTEND:20170806T140000Z
SUMMARY:Venue Booked
END:VEVENT
END:VCALENDAR
