BEGIN:VCALENDAR
VERSION:2.0
PRODID:-//Squarespace Inc/Squarespace 6//v6//EN
BEGIN:VEVENT
UID:59534199e110eba00bc589b1@squarespace.com
DTSTAMP:20170628T054222Z
DTSTART:20170820T163000Z
DTEND:20170822T190000Z
SUMMARY:Cadet Training
END:VEVENT
END:VCALENDAR
