BEGIN:VCALENDAR
VERSION:2.0
PRODID:-//Squarespace Inc/Squarespace 6//v6//EN
BEGIN:VEVENT
UID:592aa7ed37c58112b30bf5d5@squarespace.com
DTSTAMP:20170528T103625Z
DTSTART:20170813T133000Z
DTEND:20170813T183000Z
SUMMARY:Venue Booked
END:VEVENT
END:VCALENDAR
