BEGIN:VCALENDAR
VERSION:2.0
PRODID:-//Squarespace Inc/Squarespace 6//v6//EN
BEGIN:VEVENT
UID:59533e9a8419c29374e70828@squarespace.com
DTSTAMP:20170628T053442Z
DTSTART:20170709T163000Z
DTEND:20170709T190000Z
SUMMARY:Cadet Training
END:VEVENT
END:VCALENDAR
