BEGIN:VCALENDAR
VERSION:2.0
PRODID:-//Squarespace Inc/Squarespace 6//v6//EN
BEGIN:VEVENT
UID:5923c083d2b8575d127a1bb0@squarespace.com
DTSTAMP:20170523T045509Z
DTSTART:20170729T040000Z
DTEND:20170730T140000Z
SUMMARY:Venue Booked
END:VEVENT
END:VCALENDAR
