BEGIN:VCALENDAR
VERSION:2.0
PRODID:-//Squarespace Inc/Squarespace 6//v6//EN
BEGIN:VEVENT
UID:59534071b11be18d82b11689@squarespace.com
DTSTAMP:20170628T053811Z
DTSTART:20170723T163000Z
DTEND:20170723T190000Z
SUMMARY:Cadet Training
END:VEVENT
END:VCALENDAR
