BEGIN:VCALENDAR
VERSION:2.0
PRODID:-//Squarespace Inc/Squarespace 6//v6//EN
BEGIN:VEVENT
UID:5923c033f5e231af387544f7@squarespace.com
DTSTAMP:20170523T045410Z
DTSTART:20170722T040000Z
DTEND:20170723T140000Z
SUMMARY:Venue Booked
END:VEVENT
END:VCALENDAR
